BEGIN:VCALENDAR
VERSION:2.0
PRODID:-//Kreismusikschule Herzogtum Lauenburg - ECPv6.15.14//NONSGML v1.0//EN
CALSCALE:GREGORIAN
METHOD:PUBLISH
X-WR-CALNAME:Kreismusikschule Herzogtum Lauenburg
X-ORIGINAL-URL:https://kreismusikschule-herzogtum-lauenburg.de
X-WR-CALDESC:Veranstaltungen für Kreismusikschule Herzogtum Lauenburg
REFRESH-INTERVAL;VALUE=DURATION:PT1H
X-Robots-Tag:noindex
X-PUBLISHED-TTL:PT1H
BEGIN:VTIMEZONE
TZID:Europe/Berlin
BEGIN:DAYLIGHT
TZOFFSETFROM:+0100
TZOFFSETTO:+0200
TZNAME:CEST
DTSTART:20250330T010000
END:DAYLIGHT
BEGIN:STANDARD
TZOFFSETFROM:+0200
TZOFFSETTO:+0100
TZNAME:CET
DTSTART:20251026T010000
END:STANDARD
BEGIN:DAYLIGHT
TZOFFSETFROM:+0100
TZOFFSETTO:+0200
TZNAME:CEST
DTSTART:20260329T010000
END:DAYLIGHT
BEGIN:STANDARD
TZOFFSETFROM:+0200
TZOFFSETTO:+0100
TZNAME:CET
DTSTART:20261025T010000
END:STANDARD
BEGIN:DAYLIGHT
TZOFFSETFROM:+0100
TZOFFSETTO:+0200
TZNAME:CEST
DTSTART:20270328T010000
END:DAYLIGHT
BEGIN:STANDARD
TZOFFSETFROM:+0200
TZOFFSETTO:+0100
TZNAME:CET
DTSTART:20271031T010000
END:STANDARD
END:VTIMEZONE
BEGIN:VEVENT
DTSTART;TZID=Europe/Berlin:20260426T160000
DTEND;TZID=Europe/Berlin:20260426T173000
DTSTAMP:20260424T141946
CREATED:20260417T100047Z
LAST-MODIFIED:20260417T102203Z
UID:4862-1777219200-1777224600@kreismusikschule-herzogtum-lauenburg.de
SUMMARY:Frühlingskonzert
DESCRIPTION:﻿﻿﻿\n﻿ \nFreuen Sie sich auf ein vielseitiges Frühlingskonzert mit Musik für Cello\, Geige\, Gitarre\, Klavier und Querflöte.\nSchülerinnen und Schüler der Kreismusikschule präsentieren ein abwechslungsreiches Programm und geben Einblick in ihre musikalische Arbeit. \nDas Konzert ist fachübergreifend gestaltet und vereint unterschiedliche Instrumentalklassen zu einem lebendigen musikalischen Miteinander. \nEs spielen Schülerinnen und Schüler der Klassen von\nChristiane Carstensen\, Karin Kaminski\, Heike Krugmann\, Margaret Lehnhoff\, Ulf Mummert\, Birgit Nolte\, David Plum und Christian Röpert. \nDer Eintritt ist frei.
URL:https://kreismusikschule-herzogtum-lauenburg.de/veranstaltung/fruehlingskonzert/
LOCATION:Christuskirche Düneberg\, Neuer Krug 4\, Geesthacht\, 21502
ATTACH;FMTTYPE=image/png:https://kreismusikschule-herzogtum-lauenburg.de/wp-content/uploads/2026/04/Ein-bisschen-Text-hinzufuegen.png
END:VEVENT
BEGIN:VEVENT
DTSTART;TZID=Europe/Berlin:20260607T150000
DTEND;TZID=Europe/Berlin:20260607T163000
DTSTAMP:20260424T141946
CREATED:20260224T124454Z
LAST-MODIFIED:20260224T124454Z
UID:4829-1780844400-1780849800@kreismusikschule-herzogtum-lauenburg.de
SUMMARY:Wo die Sprache aufhört\, fängt die Musik an
DESCRIPTION:Am Sonntagnachmittag werden im Amtsrichterhaus wieder Geschichten\, Gedichte und Texte passend zur Jahreszeit zu hören sein. Schüler*innen der Klavierklasse von Ursula Hummel (Kreismusikschule Herzogtum Lauenburg) verleihen mit ihrem Vorspiel verschiedener Klavierwerke den Worten Raum für Phantasie und inneres Erleben. \nEine Veranstaltung der Kreismusikschule Herzogtum Lauenburg in Kooperation mit dem Amtsrichterhaus Schwarzenbek.
URL:https://kreismusikschule-herzogtum-lauenburg.de/veranstaltung/wo-die-sprache-aufhoert-faengt-die-musik-an/
LOCATION:Amtsrichterhaus Schwarzenbek\, Körnerplatz 10\, Schwarzenbek\, 21493
ATTACH;FMTTYPE=image/jpeg:https://kreismusikschule-herzogtum-lauenburg.de/wp-content/uploads/2024/03/Musik-und-Lesung-scaled.jpg
END:VEVENT
BEGIN:VEVENT
DTSTART;TZID=Europe/Berlin:20260627T130000
DTEND;TZID=Europe/Berlin:20260627T180000
DTSTAMP:20260424T141946
CREATED:20260224T135315Z
LAST-MODIFIED:20260224T135315Z
UID:4847-1782565200-1782583200@kreismusikschule-herzogtum-lauenburg.de
SUMMARY:Band PreRevolution beim Bürgerfest auf dem Marktplatz in Ratzeburg
DESCRIPTION:Der Kreis Herzogtum Lauenburg feiert in diesem Jahr sein 150jähriges Bestehen.\n\n\n\n\n\n\nDie zentrale Jubiläumsfeier wird am 27. Juni in Ratzeburg stattfinden. Neben einem Festakt mit geladenen Gästen\, der mit Beiträgen von Schülerinnen und Schülern der Kreismusikschule gestaltet wird\, gibt es auch ein Bürgerfest auf dem Marktplatz – mit einem bunten Programm für Groß und Klein und einem Auftritt unserer Band PreRevolution.\n\n\nIm Alten Kreishaus wird es einen Infostand der Kreismusikschule geben.
URL:https://kreismusikschule-herzogtum-lauenburg.de/veranstaltung/band-prerevolution-beim-buergerfest-auf-dem-marktplatz-in-ratzeburg/
LOCATION:Marktplatz Ratzeburg
ATTACH;FMTTYPE=image/jpeg:https://kreismusikschule-herzogtum-lauenburg.de/wp-content/uploads/2026/01/Pre-Revolution-Bandbild-1.jpeg
END:VEVENT
BEGIN:VEVENT
DTSTART;TZID=Europe/Berlin:20260628T160000
DTEND;TZID=Europe/Berlin:20260628T170000
DTSTAMP:20260424T141946
CREATED:20260224T130714Z
LAST-MODIFIED:20260224T130714Z
UID:4843-1782662400-1782666000@kreismusikschule-herzogtum-lauenburg.de
SUMMARY:Konzert der Generationen im Augustinum in Mölln
DESCRIPTION:Am Sonntag\, 28. Juni 2026 findet ein Konzert mit SchülerInnen der Kreismusikschule und BewohnerInnen des Augustinum statt. Der Beginn der Veranstaltung ist um 16 Uhr im Theatersaal des Augustinum Mölln. \nIm Rahmen des Konzertprogramms konzertieren junge und fortgeschrittene Schülerinnen und Schüler der Kreismusikschule sowie u. a. die ausschließlich mit Bewohnerinnen und Bewohnern des Augustinum besetzte Rhythmusgruppe.
URL:https://kreismusikschule-herzogtum-lauenburg.de/veranstaltung/konzert-der-generationen-im-augustinum-in-moelln/
LOCATION:Augustinum Seniorenresidenz Mölln\, Sterleyer Str. 44\, Mölln\, 23879
ATTACH;FMTTYPE=image/jpeg:https://kreismusikschule-herzogtum-lauenburg.de/wp-content/uploads/2026/01/Konzert-Der-Generationen-e1768907798925.jpg
END:VEVENT
BEGIN:VEVENT
DTSTART;TZID=Europe/Berlin:20260926T080000
DTEND;TZID=Europe/Berlin:20260926T170000
DTSTAMP:20260424T141946
CREATED:20260120T111853Z
LAST-MODIFIED:20260120T112011Z
UID:4778-1790409600-1790442000@kreismusikschule-herzogtum-lauenburg.de
SUMMARY:Musikschulwettbewerb - Prüfungsvorspiele
DESCRIPTION:﻿﻿
URL:https://kreismusikschule-herzogtum-lauenburg.de/veranstaltung/4778/
LOCATION:Lauenburgische Gelehrtenschule Ratzeburg\, Bahnhofsallee 22\, Ratzeburg\, 23909
ATTACH;FMTTYPE=image/jpeg:https://kreismusikschule-herzogtum-lauenburg.de/wp-content/uploads/2026/01/MUsikschul-2.jpg
END:VEVENT
BEGIN:VEVENT
DTSTART;TZID=Europe/Berlin:20261114T160000
DTEND;TZID=Europe/Berlin:20261114T180000
DTSTAMP:20260424T141946
CREATED:20260120T112239Z
LAST-MODIFIED:20260223T073332Z
UID:4788-1794672000-1794679200@kreismusikschule-herzogtum-lauenburg.de
SUMMARY:Festkonzert in Schwarzebenk
DESCRIPTION:
URL:https://kreismusikschule-herzogtum-lauenburg.de/veranstaltung/festkonzert-in-schwarzebenk/
LOCATION:Rathaussaal Schwarzenbek\, Ritter-Wulf-Platz 1\, Schwarzenbek
ATTACH;FMTTYPE=image/jpeg:https://kreismusikschule-herzogtum-lauenburg.de/wp-content/uploads/2026/01/MUsikschul.jpg
END:VEVENT
BEGIN:VEVENT
DTSTART;TZID=Europe/Berlin:20261205T143000
DTEND;TZID=Europe/Berlin:20261205T163000
DTSTAMP:20260424T141946
CREATED:20260224T130030Z
LAST-MODIFIED:20260224T130030Z
UID:4839-1796481000-1796488200@kreismusikschule-herzogtum-lauenburg.de
SUMMARY:Konzerte beim Dombasar in Ratzeburg
DESCRIPTION:Es spielen Schülerinnen und Schüler der Kreismusikschule aus unterschiedlichen Fachbereichen. Die halbstündigen Konzerte finden um 14:30 und 15:30 Uhr im Kapitelsaal im Ratzeburger Dom statt. Der Eintritt ist frei.
URL:https://kreismusikschule-herzogtum-lauenburg.de/veranstaltung/konzerte-beim-dombasar-in-ratzeburg/
LOCATION:Ratzeburger Dom\, Domhof 18\, Ratzeburg\, 23909
ATTACH;FMTTYPE=image/jpeg:https://kreismusikschule-herzogtum-lauenburg.de/wp-content/uploads/2026/01/Green-Red-Festive-Winter-Craft-Fair-Christmas-Poster-e1768907752231.jpg
END:VEVENT
END:VCALENDAR